BEGIN:VCALENDAR
VERSION:2.0
PRODID:-//Warwickshire Golf Union - ECPv6.13.2.1//NONSGML v1.0//EN
CALSCALE:GREGORIAN
METHOD:PUBLISH
X-ORIGINAL-URL:https://warwickshiregolfunion.com
X-WR-CALDESC:Events for Warwickshire Golf Union
REFRESH-INTERVAL;VALUE=DURATION:PT1H
X-Robots-Tag:noindex
X-PUBLISHED-TTL:PT1H
BEGIN:VTIMEZONE
TZID:Europe/London
BEGIN:DAYLIGHT
TZOFFSETFROM:+0000
TZOFFSETTO:+0100
TZNAME:BST
DTSTART:20260329T010000
END:DAYLIGHT
BEGIN:STANDARD
TZOFFSETFROM:+0100
TZOFFSETTO:+0000
TZNAME:GMT
DTSTART:20261025T010000
END:STANDARD
END:VTIMEZONE
BEGIN:VEVENT
DTSTART;VALUE=DATE:20260510
DTEND;VALUE=DATE:20260511
DTSTAMP:20260423T091250
CREATED:20251113T091210Z
LAST-MODIFIED:20251113T091210Z
UID:10000519-1778371200-1778457599@warwickshiregolfunion.com
SUMMARY:1st Team v Staffordshire
DESCRIPTION:
URL:https://warwickshiregolfunion.com/event/1st-team-v-staffordshire-3/
LOCATION:Trentham Golf Club\, Barlaston Old Road 14\, Stoke-on-Trent\, ST4 8HB\, United Kingdom
CATEGORIES:Mens Team
GEO:52.964834;-2.185388
X-APPLE-STRUCTURED-LOCATION;VALUE=URI;X-ADDRESS=Trentham Golf Club Barlaston Old Road 14 Stoke-on-Trent ST4 8HB United Kingdom;X-APPLE-RADIUS=500;X-TITLE=Barlaston Old Road 14:geo:-2.185388,52.964834
END:VEVENT
BEGIN:VEVENT
DTSTART;VALUE=DATE:20261006
DTEND;VALUE=DATE:20261009
DTSTAMP:20260423T091250
CREATED:20251113T091325Z
LAST-MODIFIED:20251113T091325Z
UID:10000549-1791244800-1791503999@warwickshiregolfunion.com
SUMMARY:Mens Senior English County Finals
DESCRIPTION:
URL:https://warwickshiregolfunion.com/event/mens-senior-english-county-finals-2/
LOCATION:Trentham Golf Club\, Barlaston Old Road 14\, Stoke-on-Trent\, ST4 8HB\, United Kingdom
CATEGORIES:Seniors Team
GEO:52.964834;-2.185388
X-APPLE-STRUCTURED-LOCATION;VALUE=URI;X-ADDRESS=Trentham Golf Club Barlaston Old Road 14 Stoke-on-Trent ST4 8HB United Kingdom;X-APPLE-RADIUS=500;X-TITLE=Barlaston Old Road 14:geo:-2.185388,52.964834
END:VEVENT
END:VCALENDAR