BEGIN:VCALENDAR
VERSION:2.0
PRODID:-//Warwickshire Golf Union - ECPv6.13.2.1//NONSGML v1.0//EN
CALSCALE:GREGORIAN
METHOD:PUBLISH
X-ORIGINAL-URL:https://warwickshiregolfunion.com
X-WR-CALDESC:Events for Warwickshire Golf Union
REFRESH-INTERVAL;VALUE=DURATION:PT1H
X-Robots-Tag:noindex
X-PUBLISHED-TTL:PT1H
BEGIN:VTIMEZONE
TZID:Europe/London
BEGIN:DAYLIGHT
TZOFFSETFROM:+0000
TZOFFSETTO:+0100
TZNAME:BST
DTSTART:20260329T010000
END:DAYLIGHT
BEGIN:STANDARD
TZOFFSETFROM:+0100
TZOFFSETTO:+0000
TZNAME:GMT
DTSTART:20261025T010000
END:STANDARD
END:VTIMEZONE
BEGIN:VEVENT
DTSTART;VALUE=DATE:20260923
DTEND;VALUE=DATE:20260924
DTSTAMP:20260425T132435
CREATED:20251113T091312Z
LAST-MODIFIED:20251113T091312Z
UID:10000548-1790121600-1790207999@warwickshiregolfunion.com
SUMMARY:Seniors League Playoff Final
DESCRIPTION:
URL:https://warwickshiregolfunion.com/event/seniors-league-playoff-final-2/
LOCATION:Stanton-on-the-Wolds Golf Club\, Golf Course Road\, Nottinghamshire\, NG12\, United Kingdom
CATEGORIES:Seniors Team
GEO:52.8711661;-1.0676975
X-APPLE-STRUCTURED-LOCATION;VALUE=URI;X-ADDRESS=Stanton-on-the-Wolds Golf Club Golf Course Road Nottinghamshire NG12 United Kingdom;X-APPLE-RADIUS=500;X-TITLE=Golf Course Road:geo:-1.0676975,52.8711661
END:VEVENT
END:VCALENDAR