BEGIN:VCALENDAR
VERSION:2.0
PRODID:-//Warwickshire Golf Union - ECPv6.13.2.1//NONSGML v1.0//EN
CALSCALE:GREGORIAN
METHOD:PUBLISH
X-ORIGINAL-URL:https://warwickshiregolfunion.com
X-WR-CALDESC:Events for Warwickshire Golf Union
REFRESH-INTERVAL;VALUE=DURATION:PT1H
X-Robots-Tag:noindex
X-PUBLISHED-TTL:PT1H
BEGIN:VTIMEZONE
TZID:Europe/London
BEGIN:DAYLIGHT
TZOFFSETFROM:+0000
TZOFFSETTO:+0100
TZNAME:BST
DTSTART:20260329T010000
END:DAYLIGHT
BEGIN:STANDARD
TZOFFSETFROM:+0100
TZOFFSETTO:+0000
TZNAME:GMT
DTSTART:20261025T010000
END:STANDARD
END:VTIMEZONE
BEGIN:VEVENT
DTSTART;VALUE=DATE:20260827
DTEND;VALUE=DATE:20260828
DTSTAMP:20260425T194033
CREATED:20251113T091311Z
LAST-MODIFIED:20251113T091311Z
UID:10000546-1787788800-1787875199@warwickshiregolfunion.com
SUMMARY:Seniors v Nottinghamshire
DESCRIPTION:
URL:https://warwickshiregolfunion.com/event/seniors-v-nottinghamshire-3/
LOCATION:Shirley Golf Club\, Stratford Road Shirley\, Solihull B90 4EW\, UK\, Shirley\, B90 4EW\, United Kingdom
CATEGORIES:Seniors Team
GEO:52.3813554;-1.7904059
X-APPLE-STRUCTURED-LOCATION;VALUE=URI;X-ADDRESS=Shirley Golf Club Stratford Road Shirley Solihull B90 4EW UK Shirley B90 4EW United Kingdom;X-APPLE-RADIUS=500;X-TITLE=Stratford Road Shirley\, Solihull B90 4EW\, UK:geo:-1.7904059,52.3813554
END:VEVENT
END:VCALENDAR