BEGIN:VCALENDAR
VERSION:2.0
PRODID:-//Warwickshire Golf Union - ECPv6.13.2.1//NONSGML v1.0//EN
CALSCALE:GREGORIAN
METHOD:PUBLISH
X-ORIGINAL-URL:https://warwickshiregolfunion.com
X-WR-CALDESC:Events for Warwickshire Golf Union
REFRESH-INTERVAL;VALUE=DURATION:PT1H
X-Robots-Tag:noindex
X-PUBLISHED-TTL:PT1H
BEGIN:VTIMEZONE
TZID:Europe/London
BEGIN:DAYLIGHT
TZOFFSETFROM:+0000
TZOFFSETTO:+0100
TZNAME:BST
DTSTART:20250330T010000
END:DAYLIGHT
BEGIN:STANDARD
TZOFFSETFROM:+0100
TZOFFSETTO:+0000
TZNAME:GMT
DTSTART:20251026T010000
END:STANDARD
END:VTIMEZONE
BEGIN:VEVENT
DTSTART;VALUE=DATE:20250717
DTEND;VALUE=DATE:20250821
DTSTAMP:20260425T192856
CREATED:20241119T193959Z
LAST-MODIFIED:20241220T103856Z
UID:10000482-1752710400-1755734399@warwickshiregolfunion.com
SUMMARY:Seniors v Staffordshire
DESCRIPTION:
URL:https://warwickshiregolfunion.com/event/seniors-v-staffordshire/
LOCATION:Sandwell Park Golf Club\, Birmingham Road\, West Midlands\, United Kingdom
CATEGORIES:Seniors Team
GEO:52.5111646;-1.9739605
X-APPLE-STRUCTURED-LOCATION;VALUE=URI;X-ADDRESS=Sandwell Park Golf Club Birmingham Road West Midlands United Kingdom;X-APPLE-RADIUS=500;X-TITLE=Birmingham Road:geo:-1.9739605,52.5111646
END:VEVENT
END:VCALENDAR