BEGIN:VCALENDAR
VERSION:2.0
PRODID:-//Warwickshire Golf Union - ECPv6.13.2.1//NONSGML v1.0//EN
CALSCALE:GREGORIAN
METHOD:PUBLISH
X-WR-CALNAME:Warwickshire Golf Union
X-ORIGINAL-URL:https://warwickshiregolfunion.com
X-WR-CALDESC:Events for Warwickshire Golf Union
REFRESH-INTERVAL;VALUE=DURATION:PT1H
X-Robots-Tag:noindex
X-PUBLISHED-TTL:PT1H
BEGIN:VTIMEZONE
TZID:Europe/London
BEGIN:DAYLIGHT
TZOFFSETFROM:+0000
TZOFFSETTO:+0100
TZNAME:BST
DTSTART:20260329T010000
END:DAYLIGHT
BEGIN:STANDARD
TZOFFSETFROM:+0100
TZOFFSETTO:+0000
TZNAME:GMT
DTSTART:20261025T010000
END:STANDARD
END:VTIMEZONE
BEGIN:VEVENT
DTSTART;VALUE=DATE:20260702
DTEND;VALUE=DATE:20260703
DTSTAMP:20260425T004304
CREATED:20251113T091342Z
LAST-MODIFIED:20251113T091342Z
UID:10000557-1782950400-1783036799@warwickshiregolfunion.com
SUMMARY:Warwickshire Senior Amateur Championship
DESCRIPTION:
URL:https://warwickshiregolfunion.com/event/warwickshire-senior-amateur-championship-2/
LOCATION:Olton Golf Club\, Mirfield Road 33\, West Midlands\, B91 1JH\, United Kingdom
CATEGORIES:Seniors Team
GEO:52.4270831;-1.7944344
X-APPLE-STRUCTURED-LOCATION;VALUE=URI;X-ADDRESS=Olton Golf Club Mirfield Road 33 West Midlands B91 1JH United Kingdom;X-APPLE-RADIUS=500;X-TITLE=Mirfield Road 33:geo:-1.7944344,52.4270831
END:VEVENT
END:VCALENDAR