BEGIN:VCALENDAR
VERSION:2.0
PRODID:-//Warwickshire Golf Union - ECPv6.13.2.1//NONSGML v1.0//EN
CALSCALE:GREGORIAN
METHOD:PUBLISH
X-ORIGINAL-URL:https://warwickshiregolfunion.com
X-WR-CALDESC:Events for Warwickshire Golf Union
REFRESH-INTERVAL;VALUE=DURATION:PT1H
X-Robots-Tag:noindex
X-PUBLISHED-TTL:PT1H
BEGIN:VTIMEZONE
TZID:Europe/London
BEGIN:DAYLIGHT
TZOFFSETFROM:+0000
TZOFFSETTO:+0100
TZNAME:BST
DTSTART:20260329T010000
END:DAYLIGHT
BEGIN:STANDARD
TZOFFSETFROM:+0100
TZOFFSETTO:+0000
TZNAME:GMT
DTSTART:20261025T010000
END:STANDARD
END:VTIMEZONE
BEGIN:VEVENT
DTSTART;VALUE=DATE:20260907
DTEND;VALUE=DATE:20260908
DTSTAMP:20260419T143933
CREATED:20251113T091156Z
LAST-MODIFIED:20251113T091156Z
UID:10000518-1788739200-1788825599@warwickshiregolfunion.com
SUMMARY:2nd Team v Shropshire & Herefordshire
DESCRIPTION:
URL:https://warwickshiregolfunion.com/event/2nd-team-v-shropshire-herefordshire-3/
LOCATION:Kenilworth Golf Club\, Crewe Lane\, Warwickshire\, CV8 2EA\, United Kingdom
CATEGORIES:Mens Team
GEO:52.3502286;-1.5480719
X-APPLE-STRUCTURED-LOCATION;VALUE=URI;X-ADDRESS=Kenilworth Golf Club Crewe Lane Warwickshire CV8 2EA United Kingdom;X-APPLE-RADIUS=500;X-TITLE=Crewe Lane:geo:-1.5480719,52.3502286
END:VEVENT
END:VCALENDAR