BEGIN:VCALENDAR
VERSION:2.0
PRODID:-//Warwickshire Golf Union - ECPv6.13.2.1//NONSGML v1.0//EN
CALSCALE:GREGORIAN
METHOD:PUBLISH
X-WR-CALNAME:Warwickshire Golf Union
X-ORIGINAL-URL:https://warwickshiregolfunion.com
X-WR-CALDESC:Events for Warwickshire Golf Union
REFRESH-INTERVAL;VALUE=DURATION:PT1H
X-Robots-Tag:noindex
X-PUBLISHED-TTL:PT1H
BEGIN:VTIMEZONE
TZID:Europe/London
BEGIN:DAYLIGHT
TZOFFSETFROM:+0000
TZOFFSETTO:+0100
TZNAME:BST
DTSTART:20250330T010000
END:DAYLIGHT
BEGIN:STANDARD
TZOFFSETFROM:+0100
TZOFFSETTO:+0000
TZNAME:GMT
DTSTART:20251026T010000
END:STANDARD
END:VTIMEZONE
BEGIN:VEVENT
DTSTART;VALUE=DATE:20250804
DTEND;VALUE=DATE:20250806
DTSTAMP:20260425T195447
CREATED:20241119T194040Z
LAST-MODIFIED:20241220T103916Z
UID:10000491-1754265600-1754438399@warwickshiregolfunion.com
SUMMARY:EG Seniors Championship Qualifier
DESCRIPTION:
URL:https://warwickshiregolfunion.com/event/eg-seniors-championship-qualifier/
LOCATION:Gog Magog Golf Club\, Great Shelford\, Cambridgeshire\, CB22 3AB\, United Kingdom
CATEGORIES:Seniors Team
GEO:52.1655605;0.161665
END:VEVENT
END:VCALENDAR