BEGIN:VCALENDAR
VERSION:2.0
PRODID:-//Warwickshire Golf Union - ECPv6.13.2.1//NONSGML v1.0//EN
CALSCALE:GREGORIAN
METHOD:PUBLISH
X-WR-CALNAME:Warwickshire Golf Union
X-ORIGINAL-URL:https://warwickshiregolfunion.com
X-WR-CALDESC:Events for Warwickshire Golf Union
REFRESH-INTERVAL;VALUE=DURATION:PT1H
X-Robots-Tag:noindex
X-PUBLISHED-TTL:PT1H
BEGIN:VTIMEZONE
TZID:Europe/London
BEGIN:DAYLIGHT
TZOFFSETFROM:+0000
TZOFFSETTO:+0100
TZNAME:BST
DTSTART:20260329T010000
END:DAYLIGHT
BEGIN:STANDARD
TZOFFSETFROM:+0100
TZOFFSETTO:+0000
TZNAME:GMT
DTSTART:20261025T010000
END:STANDARD
END:VTIMEZONE
BEGIN:VEVENT
DTSTART;VALUE=DATE:20260426
DTEND;VALUE=DATE:20260427
DTSTAMP:20260423T091212
CREATED:20251113T091226Z
LAST-MODIFIED:20260412T115740Z
UID:10000524-1777161600-1777247999@warwickshiregolfunion.com
SUMMARY:Boys Under 18s v Derbyshire - Postponed
DESCRIPTION:Postponed until 23rd August 2026 TBC
URL:https://warwickshiregolfunion.com/event/boys-under-18s-v-derbyshire-2/
LOCATION:Coventry Hearsall Golf Club\, Beechwood Avenue 33\, West Midlands\, CV5 6DF\, United Kingdom
CATEGORIES:Boys Team
GEO:52.3947608;-1.5330775
X-APPLE-STRUCTURED-LOCATION;VALUE=URI;X-ADDRESS=Coventry Hearsall Golf Club Beechwood Avenue 33 West Midlands CV5 6DF United Kingdom;X-APPLE-RADIUS=500;X-TITLE=Beechwood Avenue 33:geo:-1.5330775,52.3947608
END:VEVENT
BEGIN:VEVENT
DTSTART;VALUE=DATE:20260818
DTEND;VALUE=DATE:20260819
DTSTAMP:20260423T091212
CREATED:20251113T091307Z
LAST-MODIFIED:20251113T091307Z
UID:10000543-1787011200-1787097599@warwickshiregolfunion.com
SUMMARY:Seniors v Staffordshire
DESCRIPTION:
URL:https://warwickshiregolfunion.com/event/seniors-v-staffordshire-2/
LOCATION:Coventry Hearsall Golf Club\, Beechwood Avenue 33\, West Midlands\, CV5 6DF\, United Kingdom
GEO:52.3947608;-1.5330775
X-APPLE-STRUCTURED-LOCATION;VALUE=URI;X-ADDRESS=Coventry Hearsall Golf Club Beechwood Avenue 33 West Midlands CV5 6DF United Kingdom;X-APPLE-RADIUS=500;X-TITLE=Beechwood Avenue 33:geo:-1.5330775,52.3947608
END:VEVENT
END:VCALENDAR