BEGIN:VCALENDAR
VERSION:2.0
PRODID:-//Warwickshire Golf Union - ECPv6.13.2.1//NONSGML v1.0//EN
CALSCALE:GREGORIAN
METHOD:PUBLISH
X-WR-CALNAME:Warwickshire Golf Union
X-ORIGINAL-URL:https://warwickshiregolfunion.com
X-WR-CALDESC:Events for Warwickshire Golf Union
REFRESH-INTERVAL;VALUE=DURATION:PT1H
X-Robots-Tag:noindex
X-PUBLISHED-TTL:PT1H
BEGIN:VTIMEZONE
TZID:Europe/London
BEGIN:DAYLIGHT
TZOFFSETFROM:+0000
TZOFFSETTO:+0100
TZNAME:BST
DTSTART:20250330T010000
END:DAYLIGHT
BEGIN:STANDARD
TZOFFSETFROM:+0100
TZOFFSETTO:+0000
TZNAME:GMT
DTSTART:20251026T010000
END:STANDARD
END:VTIMEZONE
BEGIN:VEVENT
DTSTART;VALUE=DATE:20250706
DTEND;VALUE=DATE:20250707
DTSTAMP:20260421T125455
CREATED:20241119T192821Z
LAST-MODIFIED:20250318T123034Z
UID:10000457-1751760000-1751846399@warwickshiregolfunion.com
SUMMARY:1st Team v Worcestershire
DESCRIPTION:
URL:https://warwickshiregolfunion.com/event/1st-team-v-worcestershire-3/
LOCATION:Hagley Golf Club\, Wassell Grove Lane\, DY9 9JW\, United Kingdom
CATEGORIES:Mens Team
GEO:52.4375607;-2.1040881
X-APPLE-STRUCTURED-LOCATION;VALUE=URI;X-ADDRESS=Hagley Golf Club Wassell Grove Lane DY9 9JW United Kingdom;X-APPLE-RADIUS=500;X-TITLE=Wassell Grove Lane:geo:-2.1040881,52.4375607
END:VEVENT
BEGIN:VEVENT
DTSTART;VALUE=DATE:20250702
DTEND;VALUE=DATE:20250703
DTSTAMP:20260421T125455
CREATED:20241220T105127Z
LAST-MODIFIED:20250318T122748Z
UID:10000506-1751414400-1751500799@warwickshiregolfunion.com
SUMMARY:Warwickshire Mens Senior Amateur Championship at Shirley GC
DESCRIPTION:Golf Genius Event Code: befy95\nGolf Genius Event Portal: https://www.golfgenius.com/ggid/befy95
URL:https://warwickshiregolfunion.com/event/warwickshire-mens-senior-amateur-championship-at-shirley-gc-2/
LOCATION:Shirley Golf Club\, Stratford Road Shirley\, Solihull B90 4EW\, UK\, Shirley\, B90 4EW\, United Kingdom
CATEGORIES:Seniors
GEO:52.3813554;-1.7904059
X-APPLE-STRUCTURED-LOCATION;VALUE=URI;X-ADDRESS=Shirley Golf Club Stratford Road Shirley Solihull B90 4EW UK Shirley B90 4EW United Kingdom;X-APPLE-RADIUS=500;X-TITLE=Stratford Road Shirley\, Solihull B90 4EW\, UK:geo:-1.7904059,52.3813554
END:VEVENT
BEGIN:VEVENT
DTSTART;VALUE=DATE:20250629
DTEND;VALUE=DATE:20250630
DTSTAMP:20260421T125455
CREATED:20241119T193747Z
LAST-MODIFIED:20250318T122607Z
UID:10000470-1751155200-1751241599@warwickshiregolfunion.com
SUMMARY:Boys Under 16s v Shropshire & Herefordshire
DESCRIPTION:
URL:https://warwickshiregolfunion.com/event/boys-under-16s-v-shropshire-herefordshire/
LOCATION:Burghill Valley Golf Club\, Tillington Road\, Herefordshire\, HR4\, United Kingdom
CATEGORIES:Boys Team
GEO:52.07534;-2.7465404
X-APPLE-STRUCTURED-LOCATION;VALUE=URI;X-ADDRESS=Burghill Valley Golf Club Tillington Road Herefordshire HR4 United Kingdom;X-APPLE-RADIUS=500;X-TITLE=Tillington Road:geo:-2.7465404,52.07534
END:VEVENT
BEGIN:VEVENT
DTSTART;VALUE=DATE:20250622
DTEND;VALUE=DATE:20250623
DTSTAMP:20260421T125455
CREATED:20241119T193748Z
LAST-MODIFIED:20241220T103829Z
UID:10000473-1750550400-1750636799@warwickshiregolfunion.com
SUMMARY:Boys Under 16s v Leicestershire
DESCRIPTION:
URL:https://warwickshiregolfunion.com/event/boys-under-16s-v-leicestershire/
LOCATION:Hearsall Golf Club\, Beechwood Avenue 33\, West Midlands\, CV5 6DF\, United Kingdom
CATEGORIES:Boys Team
GEO:52.3947608;-1.5330775
X-APPLE-STRUCTURED-LOCATION;VALUE=URI;X-ADDRESS=Hearsall Golf Club Beechwood Avenue 33 West Midlands CV5 6DF United Kingdom;X-APPLE-RADIUS=500;X-TITLE=Beechwood Avenue 33:geo:-1.5330775,52.3947608
END:VEVENT
BEGIN:VEVENT
DTSTART;VALUE=DATE:20250619
DTEND;VALUE=DATE:20250620
DTSTAMP:20260421T125455
CREATED:20241119T194003Z
LAST-MODIFIED:20241220T103902Z
UID:10000486-1750291200-1750377599@warwickshiregolfunion.com
SUMMARY:Seniors v Northamptonshire
DESCRIPTION:
URL:https://warwickshiregolfunion.com/event/seniors-v-northamptonshire-2/
LOCATION:Coventry Golf Club\, St. Martins Rd\, Finham\, Coventry CV3 6RJ\, UK\, CV3\, United Kingdom
CATEGORIES:Seniors Team
GEO:52.3714365;-1.5143335
X-APPLE-STRUCTURED-LOCATION;VALUE=URI;X-ADDRESS=Coventry Golf Club St. Martins Rd Finham Coventry CV3 6RJ UK CV3 United Kingdom;X-APPLE-RADIUS=500;X-TITLE=St. Martins Rd\, Finham\, Coventry CV3 6RJ\, UK:geo:-1.5143335,52.3714365
END:VEVENT
BEGIN:VEVENT
DTSTART;VALUE=DATE:20250608
DTEND;VALUE=DATE:20250609
DTSTAMP:20260421T125455
CREATED:20241119T193752Z
LAST-MODIFIED:20250318T122404Z
UID:10000477-1749340800-1749427199@warwickshiregolfunion.com
SUMMARY:Boys Under 14s v Worcestershire
DESCRIPTION:
URL:https://warwickshiregolfunion.com/event/boys-under-14s-v-worcestershire/
LOCATION:Rose Hills Golf Club\, Rose Hill\, Lickey\, Worcestershire\, B45 8RR\, United Kingdom
CATEGORIES:Boys Team
GEO:52.3785046;-2.0090037
X-APPLE-STRUCTURED-LOCATION;VALUE=URI;X-ADDRESS=Rose Hills Golf Club Rose Hill Lickey Worcestershire B45 8RR United Kingdom;X-APPLE-RADIUS=500;X-TITLE=Rose Hill:geo:-2.0090037,52.3785046
END:VEVENT
BEGIN:VEVENT
DTSTART;VALUE=DATE:20250603
DTEND;VALUE=DATE:20250604
DTSTAMP:20260421T125455
CREATED:20241220T105127Z
LAST-MODIFIED:20250318T122027Z
UID:10000505-1748908800-1748995199@warwickshiregolfunion.com
SUMMARY:Warwickshire Men's Amateur Championships 2025 at Olton GC
DESCRIPTION:Golf Genius Event Code: ymqegd\nGolf Genius Event Portal: https://www.golfgenius.com/ggid/ymqegd
URL:https://warwickshiregolfunion.com/event/warwickshire-mens-amateur-championships-2025-at-olton-gc-2/
LOCATION:Olton Golf Club\, Mirfield Road 33\, West Midlands\, B91 1JH\, United Kingdom
CATEGORIES:Mens
GEO:52.4270831;-1.7944344
X-APPLE-STRUCTURED-LOCATION;VALUE=URI;X-ADDRESS=Olton Golf Club Mirfield Road 33 West Midlands B91 1JH United Kingdom;X-APPLE-RADIUS=500;X-TITLE=Mirfield Road 33:geo:-1.7944344,52.4270831
END:VEVENT
BEGIN:VEVENT
DTSTART;VALUE=DATE:20250601
DTEND;VALUE=DATE:20250602
DTSTAMP:20260421T125455
CREATED:20241119T192821Z
LAST-MODIFIED:20241220T103718Z
UID:10000456-1748736000-1748822399@warwickshiregolfunion.com
SUMMARY:2nd Team v Derbyshire
DESCRIPTION:
URL:https://warwickshiregolfunion.com/event/2nd-team-v-derbyshire-2/
LOCATION:Erewash Valley Golf Club\, Golf Club Road\, Stanton by Dale\, Derbyshire\, DE7 4QR\, United Kingdom
CATEGORIES:Mens Team
GEO:52.9382606;-1.2912899
X-APPLE-STRUCTURED-LOCATION;VALUE=URI;X-ADDRESS=Erewash Valley Golf Club Golf Club Road Stanton by Dale Derbyshire DE7 4QR United Kingdom;X-APPLE-RADIUS=500;X-TITLE=Golf Club Road:geo:-1.2912899,52.9382606
END:VEVENT
BEGIN:VEVENT
DTSTART;VALUE=DATE:20250601
DTEND;VALUE=DATE:20250602
DTSTAMP:20260421T125455
CREATED:20241119T192820Z
LAST-MODIFIED:20241220T103717Z
UID:10000455-1748736000-1748822399@warwickshiregolfunion.com
SUMMARY:1st Team v Derbyshire
DESCRIPTION:
URL:https://warwickshiregolfunion.com/event/1st-team-v-derbyshire-2/
LOCATION:Moor Hall Golf Club\, Moor Hall Drive\, Birmingham\, West Midlands\, B75 6LN\, United Kingdom
CATEGORIES:Mens Team
GEO:52.5822411;-1.8114876
X-APPLE-STRUCTURED-LOCATION;VALUE=URI;X-ADDRESS=Moor Hall Golf Club Moor Hall Drive Birmingham West Midlands B75 6LN United Kingdom;X-APPLE-RADIUS=500;X-TITLE=Moor Hall Drive:geo:-1.8114876,52.5822411
END:VEVENT
BEGIN:VEVENT
DTSTART;TZID=Europe/London:20250531T150000
DTEND;TZID=Europe/London:20250531T235900
DTSTAMP:20260421T125455
CREATED:20241220T105126Z
LAST-MODIFIED:20250424T121605Z
UID:10000503-1748703600-1748735940@warwickshiregolfunion.com
SUMMARY:Warwickshire Cup Final
DESCRIPTION:Golf Genius Event Code: ux3evs\nGolf Genius Event Portal: https://www.golfgenius.com/ggid/ux3evs
URL:https://warwickshiregolfunion.com/event/warwickshire-cup-2/
LOCATION:Copt Heath Golf Club\, Warwick Road 1220\, Knowle\, West Midlands\, B93 9LN\, United Kingdom
CATEGORIES:Mens
GEO:52.3994179;-1.7464247
X-APPLE-STRUCTURED-LOCATION;VALUE=URI;X-ADDRESS=Copt Heath Golf Club Warwick Road 1220 Knowle West Midlands B93 9LN United Kingdom;X-APPLE-RADIUS=500;X-TITLE=Warwick Road 1220:geo:-1.7464247,52.3994179
END:VEVENT
BEGIN:VEVENT
DTSTART;VALUE=DATE:20250530
DTEND;VALUE=DATE:20250531
DTSTAMP:20260421T125455
CREATED:20241119T194002Z
LAST-MODIFIED:20250318T121557Z
UID:10000484-1748563200-1748649599@warwickshiregolfunion.com
SUMMARY:Seniors v Derbyshire
DESCRIPTION:
URL:https://warwickshiregolfunion.com/event/seniors-v-derbyshire-2/
LOCATION:Ashbourne Golf Club\, Wyaston Road\, Ashbourne\, Derbyshire\, DE6 1NB\, United Kingdom
CATEGORIES:Seniors Team
GEO:52.9969309;-1.7296432
X-APPLE-STRUCTURED-LOCATION;VALUE=URI;X-ADDRESS=Ashbourne Golf Club Wyaston Road Ashbourne Derbyshire DE6 1NB United Kingdom;X-APPLE-RADIUS=500;X-TITLE=Wyaston Road:geo:-1.7296432,52.9969309
END:VEVENT
BEGIN:VEVENT
DTSTART;VALUE=DATE:20250528
DTEND;VALUE=DATE:20250529
DTSTAMP:20260421T125455
CREATED:20241119T194039Z
LAST-MODIFIED:20241220T103915Z
UID:10000489-1748390400-1748476799@warwickshiregolfunion.com
SUMMARY:EG Boys Championship Qualifier
DESCRIPTION:
URL:https://warwickshiregolfunion.com/event/eg-boys-championship-qualifier/
LOCATION:Belton Park Golf Club\, Londonthorpe Lane\, Lincolnshire\, NG31 9SH\, United Kingdom
CATEGORIES:Boys Team
GEO:52.9272946;-0.6174818
X-APPLE-STRUCTURED-LOCATION;VALUE=URI;X-ADDRESS=Belton Park Golf Club Londonthorpe Lane Lincolnshire NG31 9SH United Kingdom;X-APPLE-RADIUS=500;X-TITLE=Londonthorpe Lane:geo:-0.6174818,52.9272946
END:VEVENT
BEGIN:VEVENT
DTSTART;VALUE=DATE:20250527
DTEND;VALUE=DATE:20250528
DTSTAMP:20260421T125455
CREATED:20241220T105126Z
LAST-MODIFIED:20250318T121319Z
UID:10000504-1748304000-1748390399@warwickshiregolfunion.com
SUMMARY:Warwickshire Boys U14 & U12 Championships at North Warwickshire GC
DESCRIPTION:Golf Genius Event Code: pqab8h\nGolf Genius Event Portal: https://www.golfgenius.com/ggid/pqab8h
URL:https://warwickshiregolfunion.com/event/warwickshire-boys-u14-u12-championships-at-north-warwickshire-gc-2/
LOCATION:North Warwickshire Golf Club\, Hampton Lane\, Meriden\, West Midlands\, CV7 7LL\, United Kingdom
CATEGORIES:Juniors
GEO:52.4352688;-1.6642365
X-APPLE-STRUCTURED-LOCATION;VALUE=URI;X-ADDRESS=North Warwickshire Golf Club Hampton Lane Meriden West Midlands CV7 7LL United Kingdom;X-APPLE-RADIUS=500;X-TITLE=Hampton Lane:geo:-1.6642365,52.4352688
END:VEVENT
BEGIN:VEVENT
DTSTART;VALUE=DATE:20250518
DTEND;VALUE=DATE:20250519
DTSTAMP:20260421T125455
CREATED:20241119T193502Z
LAST-MODIFIED:20241220T103737Z
UID:10000467-1747526400-1747612799@warwickshiregolfunion.com
SUMMARY:Boys Under 18s v Worcestershire
DESCRIPTION:
URL:https://warwickshiregolfunion.com/event/boys-under-18s-v-worcestershire/
LOCATION:Moor Hall Golf Club\, Moor Hall Drive\, Birmingham\, West Midlands\, B75 6LN\, United Kingdom
CATEGORIES:Boys Team
GEO:52.5822411;-1.8114876
X-APPLE-STRUCTURED-LOCATION;VALUE=URI;X-ADDRESS=Moor Hall Golf Club Moor Hall Drive Birmingham West Midlands B75 6LN United Kingdom;X-APPLE-RADIUS=500;X-TITLE=Moor Hall Drive:geo:-1.8114876,52.5822411
END:VEVENT
BEGIN:VEVENT
DTSTART;VALUE=DATE:20250515
DTEND;VALUE=DATE:20250516
DTSTAMP:20260421T125455
CREATED:20241119T193958Z
LAST-MODIFIED:20241220T103856Z
UID:10000481-1747267200-1747353599@warwickshiregolfunion.com
SUMMARY:Seniors v Shropshire & Herefordshire
DESCRIPTION:
URL:https://warwickshiregolfunion.com/event/seniors-v-shropshire-herefordshire/
LOCATION:Kenilworth Golf Club\, Crewe Lane\, Warwickshire\, CV8 2EA\, United Kingdom
CATEGORIES:Seniors Team
GEO:52.3502286;-1.5480719
X-APPLE-STRUCTURED-LOCATION;VALUE=URI;X-ADDRESS=Kenilworth Golf Club Crewe Lane Warwickshire CV8 2EA United Kingdom;X-APPLE-RADIUS=500;X-TITLE=Crewe Lane:geo:-1.5480719,52.3502286
END:VEVENT
BEGIN:VEVENT
DTSTART;VALUE=DATE:20250511
DTEND;VALUE=DATE:20250512
DTSTAMP:20260421T125455
CREATED:20241119T193752Z
LAST-MODIFIED:20241220T103833Z
UID:10000476-1746921600-1747007999@warwickshiregolfunion.com
SUMMARY:Boys Under 14s v Staffordshire
DESCRIPTION:
URL:https://warwickshiregolfunion.com/event/boys-under-14s-v-staffordshire/
LOCATION:Penn Golf Club\, Pennwood Lane\, Staffordshire\, WV4 5JN\, United Kingdom
CATEGORIES:Boys Team
GEO:52.5490375;-2.152014
X-APPLE-STRUCTURED-LOCATION;VALUE=URI;X-ADDRESS=Penn Golf Club Pennwood Lane Staffordshire WV4 5JN United Kingdom;X-APPLE-RADIUS=500;X-TITLE=Pennwood Lane:geo:-2.152014,52.5490375
END:VEVENT
BEGIN:VEVENT
DTSTART;VALUE=DATE:20250506
DTEND;VALUE=DATE:20250507
DTSTAMP:20260421T125455
CREATED:20241119T193958Z
LAST-MODIFIED:20241220T103855Z
UID:10000480-1746489600-1746575999@warwickshiregolfunion.com
SUMMARY:Seniors v Leicestershire
DESCRIPTION:
URL:https://warwickshiregolfunion.com/event/seniors-v-leicestershire-2/
LOCATION:Nuneaton Golf Club\, Golf Dr\, Nuneaton CV11 6QF\, UK\, Warwickshire\, CV11 6QF\, United Kingdom
CATEGORIES:Seniors Team
GEO:52.5078427;-1.4326897
X-APPLE-STRUCTURED-LOCATION;VALUE=URI;X-ADDRESS=Nuneaton Golf Club Golf Dr Nuneaton CV11 6QF UK Warwickshire CV11 6QF United Kingdom;X-APPLE-RADIUS=500;X-TITLE=Golf Dr\, Nuneaton CV11 6QF\, UK:geo:-1.4326897,52.5078427
END:VEVENT
BEGIN:VEVENT
DTSTART;VALUE=DATE:20250504
DTEND;VALUE=DATE:20250505
DTSTAMP:20260421T125455
CREATED:20241119T192820Z
LAST-MODIFIED:20241220T103717Z
UID:10000454-1746316800-1746403199@warwickshiregolfunion.com
SUMMARY:2nd Team v Nottinghamshire
DESCRIPTION:
URL:https://warwickshiregolfunion.com/event/2nd-team-v-nottinghamshire-2/
LOCATION:Stratford Oaks Golf Club\, Bearley Road\, Snitterfield\, Warwickshire\, CV37 0EZ\, United Kingdom
CATEGORIES:Mens Team
GEO:52.2395749;-1.7046159
X-APPLE-STRUCTURED-LOCATION;VALUE=URI;X-ADDRESS=Stratford Oaks Golf Club Bearley Road Snitterfield Warwickshire CV37 0EZ United Kingdom;X-APPLE-RADIUS=500;X-TITLE=Bearley Road:geo:-1.7046159,52.2395749
END:VEVENT
BEGIN:VEVENT
DTSTART;VALUE=DATE:20250504
DTEND;VALUE=DATE:20250505
DTSTAMP:20260421T125455
CREATED:20241119T192817Z
LAST-MODIFIED:20241220T103714Z
UID:10000453-1746316800-1746403199@warwickshiregolfunion.com
SUMMARY:1st Team v Nottinghamshire
DESCRIPTION:
URL:https://warwickshiregolfunion.com/event/1st-team-v-nottinghamshire-2/
LOCATION:Woolaton Park Golf Club\, Lime Tree Avenue\, Nottingham\, NG8 1BT\, United Kingdom
CATEGORIES:Mens Team
GEO:52.9463116;-1.1980226
X-APPLE-STRUCTURED-LOCATION;VALUE=URI;X-ADDRESS=Woolaton Park Golf Club Lime Tree Avenue Nottingham NG8 1BT United Kingdom;X-APPLE-RADIUS=500;X-TITLE=Lime Tree Avenue:geo:-1.1980226,52.9463116
END:VEVENT
BEGIN:VEVENT
DTSTART;VALUE=DATE:20250427
DTEND;VALUE=DATE:20250428
DTSTAMP:20260421T125455
CREATED:20241119T193501Z
LAST-MODIFIED:20241220T103736Z
UID:10000465-1745712000-1745798399@warwickshiregolfunion.com
SUMMARY:Boys Under 18s v Derbyshire
DESCRIPTION:
URL:https://warwickshiregolfunion.com/event/boys-under-18s-v-derbyshire/
LOCATION:Micklover Golf Club\, Uttoxeter Road\, Derby\, United Kingdom
CATEGORIES:Boys Team
GEO:52.9083908;-1.5313271
X-APPLE-STRUCTURED-LOCATION;VALUE=URI;X-ADDRESS=Micklover Golf Club Uttoxeter Road Derby United Kingdom;X-APPLE-RADIUS=500;X-TITLE=Uttoxeter Road:geo:-1.5313271,52.9083908
END:VEVENT
BEGIN:VEVENT
DTSTART;VALUE=DATE:20250415
DTEND;VALUE=DATE:20250417
DTSTAMP:20260421T125455
CREATED:20241119T193500Z
LAST-MODIFIED:20241220T103736Z
UID:10000464-1744675200-1744847999@warwickshiregolfunion.com
SUMMARY:Boys 4 Counties
DESCRIPTION:
URL:https://warwickshiregolfunion.com/event/boys-4-counties/
LOCATION:Forest Hills Golf Club\, Mile End Road\, Gloucestershire\, GL16\, United Kingdom
CATEGORIES:Boys Team
GEO:51.8012153;-2.6029533
X-APPLE-STRUCTURED-LOCATION;VALUE=URI;X-ADDRESS=Forest Hills Golf Club Mile End Road Gloucestershire GL16 United Kingdom;X-APPLE-RADIUS=500;X-TITLE=Mile End Road:geo:-2.6029533,51.8012153
END:VEVENT
BEGIN:VEVENT
DTSTART;VALUE=DATE:20250413
DTEND;VALUE=DATE:20250414
DTSTAMP:20260421T125455
CREATED:20241119T192816Z
LAST-MODIFIED:20250318T120850Z
UID:10000451-1744502400-1744588799@warwickshiregolfunion.com
SUMMARY:1st Team v Northamptonshire
DESCRIPTION:
URL:https://warwickshiregolfunion.com/event/1st-team-v-northamptonshire/
LOCATION:Whittlebury Park\, Whittlebury\, West Northamptonshire\, NN12 8QH\, United Kingdom
CATEGORIES:Mens Team
GEO:52.0800234;-0.9978989
END:VEVENT
BEGIN:VEVENT
DTSTART;VALUE=DATE:20250406
DTEND;VALUE=DATE:20250407
DTSTAMP:20260421T125455
CREATED:20241119T192817Z
LAST-MODIFIED:20250318T121015Z
UID:10000452-1743897600-1743983999@warwickshiregolfunion.com
SUMMARY:2nd Team v Northamptonshire
DESCRIPTION:
URL:https://warwickshiregolfunion.com/event/2nd-team-v-northamptonshire/
LOCATION:Leamington & County Golf Club\, Golf Lane\, Royal Leamington Spa\, Warwickshire\, CV31\, United Kingdom
CATEGORIES:Mens Team
GEO:52.262332;-1.5197037
X-APPLE-STRUCTURED-LOCATION;VALUE=URI;X-ADDRESS=Leamington & County Golf Club Golf Lane Royal Leamington Spa Warwickshire CV31 United Kingdom;X-APPLE-RADIUS=500;X-TITLE=Golf Lane:geo:-1.5197037,52.262332
END:VEVENT
BEGIN:VEVENT
DTSTART;VALUE=DATE:20250330
DTEND;VALUE=DATE:20250331
DTSTAMP:20260421T125455
CREATED:20241119T192816Z
LAST-MODIFIED:20241220T103712Z
UID:10000450-1743292800-1743379199@warwickshiregolfunion.com
SUMMARY:2nd Team v Leicestershire
DESCRIPTION:
URL:https://warwickshiregolfunion.com/event/2nd-team-v-leicestershire/
LOCATION:Cosby Golf Club\, Chapel Lane\, Cosby\, Leicestershire\, LE9 1RG\, United Kingdom
CATEGORIES:Mens Team
GEO:52.5459293;-1.1968801
X-APPLE-STRUCTURED-LOCATION;VALUE=URI;X-ADDRESS=Cosby Golf Club Chapel Lane Cosby Leicestershire LE9 1RG United Kingdom;X-APPLE-RADIUS=500;X-TITLE=Chapel Lane:geo:-1.1968801,52.5459293
END:VEVENT
BEGIN:VEVENT
DTSTART;VALUE=DATE:20250330
DTEND;VALUE=DATE:20250331
DTSTAMP:20260421T125455
CREATED:20241119T192815Z
LAST-MODIFIED:20241220T103712Z
UID:10000449-1743292800-1743379199@warwickshiregolfunion.com
SUMMARY:1st Team v Leicestershire
DESCRIPTION:
URL:https://warwickshiregolfunion.com/event/1st-team-v-leicestershire/
LOCATION:North Warwickshire Golf Club\, Hampton Lane\, Meriden\, West Midlands\, CV7 7LL\, United Kingdom
CATEGORIES:Mens Team
GEO:52.4352688;-1.6642365
X-APPLE-STRUCTURED-LOCATION;VALUE=URI;X-ADDRESS=North Warwickshire Golf Club Hampton Lane Meriden West Midlands CV7 7LL United Kingdom;X-APPLE-RADIUS=500;X-TITLE=Hampton Lane:geo:-1.6642365,52.4352688
END:VEVENT
END:VCALENDAR