BEGIN:VCALENDAR
VERSION:2.0
PRODID:-//Warwickshire Golf Union - ECPv6.13.2.1//NONSGML v1.0//EN
CALSCALE:GREGORIAN
METHOD:PUBLISH
X-ORIGINAL-URL:https://warwickshiregolfunion.com
X-WR-CALDESC:Events for Warwickshire Golf Union
REFRESH-INTERVAL;VALUE=DURATION:PT1H
X-Robots-Tag:noindex
X-PUBLISHED-TTL:PT1H
BEGIN:VTIMEZONE
TZID:Europe/London
BEGIN:DAYLIGHT
TZOFFSETFROM:+0000
TZOFFSETTO:+0100
TZNAME:BST
DTSTART:20250330T010000
END:DAYLIGHT
BEGIN:STANDARD
TZOFFSETFROM:+0100
TZOFFSETTO:+0000
TZNAME:GMT
DTSTART:20251026T010000
END:STANDARD
END:VTIMEZONE
BEGIN:VEVENT
DTSTART;VALUE=DATE:20250504
DTEND;VALUE=DATE:20250505
DTSTAMP:20260423T091430
CREATED:20241119T192820Z
LAST-MODIFIED:20241220T103717Z
UID:10000454-1746316800-1746403199@warwickshiregolfunion.com
SUMMARY:2nd Team v Nottinghamshire
DESCRIPTION:
URL:https://warwickshiregolfunion.com/event/2nd-team-v-nottinghamshire-2/
LOCATION:Stratford Oaks Golf Club\, Bearley Road\, Snitterfield\, Warwickshire\, CV37 0EZ\, United Kingdom
CATEGORIES:Mens Team
GEO:52.2395749;-1.7046159
X-APPLE-STRUCTURED-LOCATION;VALUE=URI;X-ADDRESS=Stratford Oaks Golf Club Bearley Road Snitterfield Warwickshire CV37 0EZ United Kingdom;X-APPLE-RADIUS=500;X-TITLE=Bearley Road:geo:-1.7046159,52.2395749
END:VEVENT
BEGIN:VEVENT
DTSTART;VALUE=DATE:20250504
DTEND;VALUE=DATE:20250505
DTSTAMP:20260423T091430
CREATED:20241119T192817Z
LAST-MODIFIED:20241220T103714Z
UID:10000453-1746316800-1746403199@warwickshiregolfunion.com
SUMMARY:1st Team v Nottinghamshire
DESCRIPTION:
URL:https://warwickshiregolfunion.com/event/1st-team-v-nottinghamshire-2/
LOCATION:Woolaton Park Golf Club\, Lime Tree Avenue\, Nottingham\, NG8 1BT\, United Kingdom
CATEGORIES:Mens Team
GEO:52.9463116;-1.1980226
X-APPLE-STRUCTURED-LOCATION;VALUE=URI;X-ADDRESS=Woolaton Park Golf Club Lime Tree Avenue Nottingham NG8 1BT United Kingdom;X-APPLE-RADIUS=500;X-TITLE=Lime Tree Avenue:geo:-1.1980226,52.9463116
END:VEVENT
BEGIN:VEVENT
DTSTART;VALUE=DATE:20250413
DTEND;VALUE=DATE:20250414
DTSTAMP:20260423T091430
CREATED:20241119T192816Z
LAST-MODIFIED:20250318T120850Z
UID:10000451-1744502400-1744588799@warwickshiregolfunion.com
SUMMARY:1st Team v Northamptonshire
DESCRIPTION:
URL:https://warwickshiregolfunion.com/event/1st-team-v-northamptonshire/
LOCATION:Whittlebury Park\, Whittlebury\, West Northamptonshire\, NN12 8QH\, United Kingdom
CATEGORIES:Mens Team
GEO:52.0800234;-0.9978989
END:VEVENT
BEGIN:VEVENT
DTSTART;VALUE=DATE:20250406
DTEND;VALUE=DATE:20250407
DTSTAMP:20260423T091430
CREATED:20241119T192817Z
LAST-MODIFIED:20250318T121015Z
UID:10000452-1743897600-1743983999@warwickshiregolfunion.com
SUMMARY:2nd Team v Northamptonshire
DESCRIPTION:
URL:https://warwickshiregolfunion.com/event/2nd-team-v-northamptonshire/
LOCATION:Leamington & County Golf Club\, Golf Lane\, Royal Leamington Spa\, Warwickshire\, CV31\, United Kingdom
CATEGORIES:Mens Team
GEO:52.262332;-1.5197037
X-APPLE-STRUCTURED-LOCATION;VALUE=URI;X-ADDRESS=Leamington & County Golf Club Golf Lane Royal Leamington Spa Warwickshire CV31 United Kingdom;X-APPLE-RADIUS=500;X-TITLE=Golf Lane:geo:-1.5197037,52.262332
END:VEVENT
BEGIN:VEVENT
DTSTART;VALUE=DATE:20250330
DTEND;VALUE=DATE:20250331
DTSTAMP:20260423T091430
CREATED:20241119T192816Z
LAST-MODIFIED:20241220T103712Z
UID:10000450-1743292800-1743379199@warwickshiregolfunion.com
SUMMARY:2nd Team v Leicestershire
DESCRIPTION:
URL:https://warwickshiregolfunion.com/event/2nd-team-v-leicestershire/
LOCATION:Cosby Golf Club\, Chapel Lane\, Cosby\, Leicestershire\, LE9 1RG\, United Kingdom
CATEGORIES:Mens Team
GEO:52.5459293;-1.1968801
X-APPLE-STRUCTURED-LOCATION;VALUE=URI;X-ADDRESS=Cosby Golf Club Chapel Lane Cosby Leicestershire LE9 1RG United Kingdom;X-APPLE-RADIUS=500;X-TITLE=Chapel Lane:geo:-1.1968801,52.5459293
END:VEVENT
BEGIN:VEVENT
DTSTART;VALUE=DATE:20250330
DTEND;VALUE=DATE:20250331
DTSTAMP:20260423T091430
CREATED:20241119T192815Z
LAST-MODIFIED:20241220T103712Z
UID:10000449-1743292800-1743379199@warwickshiregolfunion.com
SUMMARY:1st Team v Leicestershire
DESCRIPTION:
URL:https://warwickshiregolfunion.com/event/1st-team-v-leicestershire/
LOCATION:North Warwickshire Golf Club\, Hampton Lane\, Meriden\, West Midlands\, CV7 7LL\, United Kingdom
CATEGORIES:Mens Team
GEO:52.4352688;-1.6642365
X-APPLE-STRUCTURED-LOCATION;VALUE=URI;X-ADDRESS=North Warwickshire Golf Club Hampton Lane Meriden West Midlands CV7 7LL United Kingdom;X-APPLE-RADIUS=500;X-TITLE=Hampton Lane:geo:-1.6642365,52.4352688
END:VEVENT
END:VCALENDAR