BEGIN:VCALENDAR
VERSION:2.0
PRODID:-//Warwickshire Golf Union - ECPv6.13.2.1//NONSGML v1.0//EN
CALSCALE:GREGORIAN
METHOD:PUBLISH
X-ORIGINAL-URL:https://warwickshiregolfunion.com
X-WR-CALDESC:Events for Warwickshire Golf Union
REFRESH-INTERVAL;VALUE=DURATION:PT1H
X-Robots-Tag:noindex
X-PUBLISHED-TTL:PT1H
BEGIN:VTIMEZONE
TZID:Europe/London
BEGIN:DAYLIGHT
TZOFFSETFROM:+0000
TZOFFSETTO:+0100
TZNAME:BST
DTSTART:20260329T010000
END:DAYLIGHT
BEGIN:STANDARD
TZOFFSETFROM:+0100
TZOFFSETTO:+0000
TZNAME:GMT
DTSTART:20261025T010000
END:STANDARD
END:VTIMEZONE
BEGIN:VEVENT
DTSTART;VALUE=DATE:20260809
DTEND;VALUE=DATE:20260810
DTSTAMP:20260424T221447
CREATED:20251113T091241Z
LAST-MODIFIED:20251113T091241Z
UID:10000531-1786233600-1786319999@warwickshiregolfunion.com
SUMMARY:Boys Under 16s v Worcestershire
DESCRIPTION:
URL:https://warwickshiregolfunion.com/event/boys-under-16s-v-worcestershire-2/
LOCATION:Stratford Oaks Golf Club\, Bearley Road\, Snitterfield\, Warwickshire\, CV37 0EZ\, United Kingdom
CATEGORIES:Boys Team
GEO:52.2395749;-1.7046159
X-APPLE-STRUCTURED-LOCATION;VALUE=URI;X-ADDRESS=Stratford Oaks Golf Club Bearley Road Snitterfield Warwickshire CV37 0EZ United Kingdom;X-APPLE-RADIUS=500;X-TITLE=Bearley Road:geo:-1.7046159,52.2395749
END:VEVENT
BEGIN:VEVENT
DTSTART;VALUE=DATE:20260825
DTEND;VALUE=DATE:20260828
DTSTAMP:20260424T221447
CREATED:20251113T091227Z
LAST-MODIFIED:20251113T091227Z
UID:10000528-1787616000-1787875199@warwickshiregolfunion.com
SUMMARY:Boys English County Finals
DESCRIPTION:
URL:https://warwickshiregolfunion.com/event/boys-english-county-finals/
LOCATION:West Midlands
CATEGORIES:Boys Team
END:VEVENT
END:VCALENDAR