BEGIN:VCALENDAR
VERSION:2.0
PRODID:-//Warwickshire Golf Union - ECPv6.13.2.1//NONSGML v1.0//EN
CALSCALE:GREGORIAN
METHOD:PUBLISH
X-WR-CALNAME:Warwickshire Golf Union
X-ORIGINAL-URL:https://warwickshiregolfunion.com
X-WR-CALDESC:Events for Warwickshire Golf Union
REFRESH-INTERVAL;VALUE=DURATION:PT1H
X-Robots-Tag:noindex
X-PUBLISHED-TTL:PT1H
BEGIN:VTIMEZONE
TZID:Europe/London
BEGIN:DAYLIGHT
TZOFFSETFROM:+0000
TZOFFSETTO:+0100
TZNAME:BST
DTSTART:20260329T010000
END:DAYLIGHT
BEGIN:STANDARD
TZOFFSETFROM:+0100
TZOFFSETTO:+0000
TZNAME:GMT
DTSTART:20261025T010000
END:STANDARD
END:VTIMEZONE
BEGIN:VEVENT
DTSTART;VALUE=DATE:20260607
DTEND;VALUE=DATE:20260608
DTSTAMP:20260424T193602
CREATED:20251113T091257Z
LAST-MODIFIED:20251113T091257Z
UID:10000537-1780790400-1780876799@warwickshiregolfunion.com
SUMMARY:Boys Under 14s v Worcestershire
DESCRIPTION:
URL:https://warwickshiregolfunion.com/event/boys-under-14s-v-worcestershire-2/
LOCATION:Atherstone Golf Club\, Coleshill Road 5\, Warwickshire\, CV9 2HL\, United Kingdom
CATEGORIES:Boys Team
GEO:52.5584905;-1.5844282
X-APPLE-STRUCTURED-LOCATION;VALUE=URI;X-ADDRESS=Atherstone Golf Club Coleshill Road 5 Warwickshire CV9 2HL United Kingdom;X-APPLE-RADIUS=500;X-TITLE=Coleshill Road 5:geo:-1.5844282,52.5584905
END:VEVENT
BEGIN:VEVENT
DTSTART;VALUE=DATE:20260620
DTEND;VALUE=DATE:20260621
DTSTAMP:20260424T193602
CREATED:20251113T091227Z
LAST-MODIFIED:20260414T131558Z
UID:10000527-1781913600-1781999999@warwickshiregolfunion.com
SUMMARY:Boys Under 18s v Shropshire & Herefordshire
DESCRIPTION:
URL:https://warwickshiregolfunion.com/event/boys-under-18s-v-shropshire-herefordshire-2/
LOCATION:Church Stretton
CATEGORIES:Boys Team
END:VEVENT
BEGIN:VEVENT
DTSTART;VALUE=DATE:20260621
DTEND;VALUE=DATE:20260622
DTSTAMP:20260424T193602
CREATED:20251113T091242Z
LAST-MODIFIED:20251113T091242Z
UID:10000533-1782000000-1782086399@warwickshiregolfunion.com
SUMMARY:Boys Under 16s v Leicestershire
DESCRIPTION:
URL:https://warwickshiregolfunion.com/event/boys-under-16s-v-leicestershire-2/
LOCATION:West Midlands
CATEGORIES:Boys Team
END:VEVENT
BEGIN:VEVENT
DTSTART;VALUE=DATE:20260628
DTEND;VALUE=DATE:20260629
DTSTAMP:20260424T193602
CREATED:20251113T091241Z
LAST-MODIFIED:20251113T091241Z
UID:10000530-1782604800-1782691199@warwickshiregolfunion.com
SUMMARY:Boys Under 16s v Shropshire & Herefordshire
DESCRIPTION:
URL:https://warwickshiregolfunion.com/event/boys-under-16s-v-shropshire-herefordshire-2/
LOCATION:Rugby Golf Club\, Clifton Road\, Warwickshire\, CV21 3RD\, United Kingdom
CATEGORIES:Boys Team
GEO:52.3763763;-1.2375071
X-APPLE-STRUCTURED-LOCATION;VALUE=URI;X-ADDRESS=Rugby Golf Club Clifton Road Warwickshire CV21 3RD United Kingdom;X-APPLE-RADIUS=500;X-TITLE=Clifton Road:geo:-1.2375071,52.3763763
END:VEVENT
END:VCALENDAR