BEGIN:VCALENDAR
VERSION:2.0
PRODID:-//Warwickshire Golf Union - ECPv6.13.2.1//NONSGML v1.0//EN
CALSCALE:GREGORIAN
METHOD:PUBLISH
X-WR-CALNAME:Warwickshire Golf Union
X-ORIGINAL-URL:https://warwickshiregolfunion.com
X-WR-CALDESC:Events for Warwickshire Golf Union
REFRESH-INTERVAL;VALUE=DURATION:PT1H
X-Robots-Tag:noindex
X-PUBLISHED-TTL:PT1H
BEGIN:VTIMEZONE
TZID:Europe/London
BEGIN:DAYLIGHT
TZOFFSETFROM:+0000
TZOFFSETTO:+0100
TZNAME:BST
DTSTART:20260329T010000
END:DAYLIGHT
BEGIN:STANDARD
TZOFFSETFROM:+0100
TZOFFSETTO:+0000
TZNAME:GMT
DTSTART:20261025T010000
END:STANDARD
END:VTIMEZONE
BEGIN:VEVENT
DTSTART;VALUE=DATE:20260510
DTEND;VALUE=DATE:20260511
DTSTAMP:20260424T183004
CREATED:20251113T091256Z
LAST-MODIFIED:20251113T091256Z
UID:10000536-1778371200-1778457599@warwickshiregolfunion.com
SUMMARY:Boys Under 14s v Staffordshire
DESCRIPTION:
URL:https://warwickshiregolfunion.com/event/boys-under-14s-v-staffordshire-2/
LOCATION:Copt Heath Golf Club\, Warwick Road 1220\, Knowle\, West Midlands\, B93 9LN\, United Kingdom
CATEGORIES:Boys Team
GEO:52.3994179;-1.7464247
X-APPLE-STRUCTURED-LOCATION;VALUE=URI;X-ADDRESS=Copt Heath Golf Club Warwick Road 1220 Knowle West Midlands B93 9LN United Kingdom;X-APPLE-RADIUS=500;X-TITLE=Warwick Road 1220:geo:-1.7464247,52.3994179
END:VEVENT
BEGIN:VEVENT
DTSTART;VALUE=DATE:20260517
DTEND;VALUE=DATE:20260518
DTSTAMP:20260424T183004
CREATED:20251113T091226Z
LAST-MODIFIED:20251113T091226Z
UID:10000526-1778976000-1779062399@warwickshiregolfunion.com
SUMMARY:Boys Under 18s v Worcestershire
DESCRIPTION:
URL:https://warwickshiregolfunion.com/event/boys-under-18s-v-worcestershire-2/
LOCATION:West Midlands
CATEGORIES:Boys Team
END:VEVENT
BEGIN:VEVENT
DTSTART;VALUE=DATE:20260526
DTEND;VALUE=DATE:20260527
DTSTAMP:20260424T183004
CREATED:20251113T091341Z
LAST-MODIFIED:20251113T091341Z
UID:10000556-1779753600-1779839999@warwickshiregolfunion.com
SUMMARY:Warwickshire Boy's U14 & U12 Championship
DESCRIPTION:
URL:https://warwickshiregolfunion.com/event/warwickshire-boys-u14-u12-championship-2/
LOCATION:North Warwickshire Golf Club\, Hampton Lane\, Meriden\, West Midlands\, CV7 7LL\, United Kingdom
CATEGORIES:Boys Team
GEO:52.4352688;-1.6642365
X-APPLE-STRUCTURED-LOCATION;VALUE=URI;X-ADDRESS=North Warwickshire Golf Club Hampton Lane Meriden West Midlands CV7 7LL United Kingdom;X-APPLE-RADIUS=500;X-TITLE=Hampton Lane:geo:-1.6642365,52.4352688
END:VEVENT
BEGIN:VEVENT
DTSTART;VALUE=DATE:20260527
DTEND;VALUE=DATE:20260528
DTSTAMP:20260424T183004
CREATED:20251113T091326Z
LAST-MODIFIED:20251113T091326Z
UID:10000550-1779840000-1779926399@warwickshiregolfunion.com
SUMMARY:EG Boys Championship Qualifier
DESCRIPTION:
URL:https://warwickshiregolfunion.com/event/eg-boys-championship-qualifier-2/
LOCATION:Trentham Park Golf Club\, Trentham Park Golf Club\, Park Dr\, Trentham\, Park\, Stoke-on-Trent ST4 8AE\, UK\, Park\, Staffordshire\, ST4 8AE\, United Kingdom
CATEGORIES:Boys Team
GEO:52.9687542;-2.2106681
X-APPLE-STRUCTURED-LOCATION;VALUE=URI;X-ADDRESS=Trentham Park Golf Club Trentham Park Golf Club Park Dr Trentham Park Stoke-on-Trent ST4 8AE UK Park Staffordshire ST4 8AE United Kingdom;X-APPLE-RADIUS=500;X-TITLE=Trentham Park Golf Club\, Park Dr\, Trentham\, Park\, Stoke-on-Trent ST4 8AE\, UK:geo:-2.2106681,52.9687542
END:VEVENT
END:VCALENDAR